BEGIN:VCALENDAR
VERSION:2.0
PRODID:-//McCarthy Realty - ECPv6.15.20//NONSGML v1.0//EN
CALSCALE:GREGORIAN
METHOD:PUBLISH
X-ORIGINAL-URL:https://mccarthyrealty.ca
X-WR-CALDESC:Events for McCarthy Realty
REFRESH-INTERVAL;VALUE=DURATION:PT1H
X-Robots-Tag:noindex
X-PUBLISHED-TTL:PT1H
BEGIN:VTIMEZONE
TZID:America/Toronto
BEGIN:DAYLIGHT
TZOFFSETFROM:-0500
TZOFFSETTO:-0400
TZNAME:EDT
DTSTART:20230312T070000
END:DAYLIGHT
BEGIN:STANDARD
TZOFFSETFROM:-0400
TZOFFSETTO:-0500
TZNAME:EST
DTSTART:20231105T060000
END:STANDARD
BEGIN:DAYLIGHT
TZOFFSETFROM:-0500
TZOFFSETTO:-0400
TZNAME:EDT
DTSTART:20240310T070000
END:DAYLIGHT
BEGIN:STANDARD
TZOFFSETFROM:-0400
TZOFFSETTO:-0500
TZNAME:EST
DTSTART:20241103T060000
END:STANDARD
BEGIN:DAYLIGHT
TZOFFSETFROM:-0500
TZOFFSETTO:-0400
TZNAME:EDT
DTSTART:20250309T070000
END:DAYLIGHT
BEGIN:STANDARD
TZOFFSETFROM:-0400
TZOFFSETTO:-0500
TZNAME:EST
DTSTART:20251102T060000
END:STANDARD
END:VTIMEZONE
BEGIN:VEVENT
DTSTART;TZID=America/Toronto:20240329T080000
DTEND;TZID=America/Toronto:20240329T170000
DTSTAMP:20260422T140600
CREATED:20240329T135036Z
LAST-MODIFIED:20240329T135036Z
UID:3950-1711699200-1711731600@mccarthyrealty.ca
SUMMARY:The Campfire Poets Live At The Tipsy Fox Shelburne
DESCRIPTION:Based out of Orangeville\, the Poets have played all over Ontario\, and parts of the Canadian East Coast for over 25 years\, bringing the party with them wherever they go! The flexible band covers music from the last 70 decades\, covering genres from Rock\, Pop\, Dance\, Reggae\, Celtic\, Blues and Folk. \nFrom their start in small pubs\, ‘The Poets’ have become a favourite of the summer festivals including Caledon’s Canada day celebration\, Woodbridge and Orangeville Rib Fest\, Orangeville Blues and Jazz Festival and Founder’s Day celebration. \nThe Tipsy Fox Pub & Grill – Shelburne \n\n\n\n\n\n\n\n\nFriday\, April 19 · 8:30 – 11:30pm EDT
URL:https://mccarthyrealty.ca/event/the-campfire-poets-live-at-the-tipsy-fox-shelburne/
LOCATION:Tipsy Fox\, 101 Main Street West\, Shelburne\, ON\, L0N 1S3\, Canada
CATEGORIES:Music Events,Shelburne & Area Events
ATTACH;FMTTYPE=image/jpeg:https://mccarthyrealty.ca/wp-content/uploads/2024/03/https___cdn.evbuc_.com_images_720795539_1853117872533_1_original.jpeg
END:VEVENT
END:VCALENDAR