BEGIN:VCALENDAR
VERSION:2.0
PRODID:-//McCarthy Realty - ECPv6.15.20//NONSGML v1.0//EN
CALSCALE:GREGORIAN
METHOD:PUBLISH
X-ORIGINAL-URL:https://mccarthyrealty.ca
X-WR-CALDESC:Events for McCarthy Realty
REFRESH-INTERVAL;VALUE=DURATION:PT1H
X-Robots-Tag:noindex
X-PUBLISHED-TTL:PT1H
BEGIN:VTIMEZONE
TZID:America/Toronto
BEGIN:DAYLIGHT
TZOFFSETFROM:-0500
TZOFFSETTO:-0400
TZNAME:EDT
DTSTART:20220313T070000
END:DAYLIGHT
BEGIN:STANDARD
TZOFFSETFROM:-0400
TZOFFSETTO:-0500
TZNAME:EST
DTSTART:20221106T060000
END:STANDARD
BEGIN:DAYLIGHT
TZOFFSETFROM:-0500
TZOFFSETTO:-0400
TZNAME:EDT
DTSTART:20230312T070000
END:DAYLIGHT
BEGIN:STANDARD
TZOFFSETFROM:-0400
TZOFFSETTO:-0500
TZNAME:EST
DTSTART:20231105T060000
END:STANDARD
BEGIN:DAYLIGHT
TZOFFSETFROM:-0500
TZOFFSETTO:-0400
TZNAME:EDT
DTSTART:20240310T070000
END:DAYLIGHT
BEGIN:STANDARD
TZOFFSETFROM:-0400
TZOFFSETTO:-0500
TZNAME:EST
DTSTART:20241103T060000
END:STANDARD
BEGIN:DAYLIGHT
TZOFFSETFROM:-0500
TZOFFSETTO:-0400
TZNAME:EDT
DTSTART:20250309T070000
END:DAYLIGHT
BEGIN:STANDARD
TZOFFSETFROM:-0400
TZOFFSETTO:-0500
TZNAME:EST
DTSTART:20251102T060000
END:STANDARD
END:VTIMEZONE
BEGIN:VEVENT
DTSTART;TZID=America/Toronto:20240130T180000
DTEND;TZID=America/Toronto:20240130T200000
DTSTAMP:20260423T230823
CREATED:20240106T013002Z
LAST-MODIFIED:20240112T211032Z
UID:3663-1706637600-1706644800@mccarthyrealty.ca
SUMMARY:Canadian Real Estate 2024: Lower Rates & The Path Ahead
DESCRIPTION:Hosted by McCarthy Realty in Partnership with Kanga Mortgages and Dion Beg\n📍 Location: McCarthy Realty Office\, 110 Centennial Rd\, Shelburne\, ON L9V 2Z4\n📅 Date & Time: January 30\, 2024\, at 07:00 PM \n\n🌟 Join Us for an Insightful Evening! \nMcCarthy Realty\, in collaboration with Kanga Mortgages and industry expert Dion Beg\, invites you to a special event dedicated to exploring the future of Canadian real estate. Discover the impact of lower rates and the emerging trends shaping our market in 2024. \n\n🍽️ Arrive Early for Snacks and Socializing! \nCome along early and enjoy some delightful snacks while mingling with the entire McCarthy Realty team. It’s a great opportunity to network\, share insights\, and make lasting connections in a relaxed and friendly atmosphere. \n\nSecure Your Spot Today!\nSpaces are limited\, so don’t miss your chance to be part of this engaging event. Fill out the form below to confirm your attendance. We look forward to welcoming you to an evening of valuable insights and lively discussions! \n\n\n\n                \n                        \n                            Canadian Real Estate 2024: Lower Rates & The Path Ahead Event Sign Up\n                             \n                        \n                        Name(Required)\n                            \n                            \n                                                    First\n                                                    \n                                                \n                            \n                            \n                                                            Last\n                                                            \n                                                        \n                            \n                        Email(Required)\n                            \n                        PhoneHow Did You Hear About This Event?\n								\n								McCarthy Realty Team Member\n							\n								\n								Friend/Colleague\n							\n								\n								Email\n							\n								\n								Social Media\n							CommentsPlease let us know what's on your mind. Have a question for us? Ask away.Consent(Required) I agree to the privacy policy and for McCarthy Realty to contact me in the future via email
URL:https://mccarthyrealty.ca/event/canadian-real-estate-2024-lower-rates-the-path-ahead/
LOCATION:McCarthy Realty Brokerage\, 110 Centennial Rd\, Shelburne\, ON\, L9V 2Z4\, Canada
CATEGORIES:Education,McCarthy Realty Team Event
ATTACH;FMTTYPE=image/png:https://mccarthyrealty.ca/wp-content/uploads/2024/01/websiteKanga-Mortgages-Event-Facebook-App-Graphic.png
ORGANIZER;CN="McCarthy Realty Team":MAILTO:info@mccarthyrealty.ca
END:VEVENT
BEGIN:VEVENT
DTSTART;TZID=America/Toronto:20230810T140000
DTEND;TZID=America/Toronto:20230810T180000
DTSTAMP:20260423T230823
CREATED:20230721T181911Z
LAST-MODIFIED:20230802T001007Z
UID:3284-1691676000-1691690400@mccarthyrealty.ca
SUMMARY:McCarthy Realty Dundalk Office Grand Opening
DESCRIPTION:Join Us for the McCarthy Realty Dundalk Office Grand Opening! \nWe are thrilled to invite you to the long-awaited and exciting Grand Opening of our newest McCarthy Realty branch in Dundalk! The festivities will take place on August 10th 2023 at our brand-new office located at 40 Main St W. Dundalk ON. \nEvent Highlights: \nSnacks and Refreshments: Indulge in a delightful assortment of snacks and refreshments as you mingle with fellow guests and get to know our friendly team.\nExciting Prizes: Be prepared for some exciting surprises as we will be hosting raffles and giveaways throughout the event. You could be one of the lucky winners to walk away with fantastic prizes!\nMeet and Greet: Get the opportunity to meet our entire McCarthy Realty Dundalk team. Whether you’re a seasoned homeowner\, a first-time buyer\, or simply curious about the real estate market\, our team is here to help and provide valuable insights.\nExclusive Offers: Take advantage of exclusive offers and promotions available only during the Grand Opening. Discover how McCarthy Realty can assist you in making your real estate dreams a reality.\nOur team has been serving the community with dedication and professionalism\, and we are excited to expand our presence to Dundalk. This Grand Opening celebration is our way of expressing gratitude to all our clients\, partners\, and the community for their continued support. \nMark your calendar\, bring your friends and family\, and be a part of this momentous occasion. We look forward to celebrating with you! \nPlease RSVP by August 7th 2023 to ensure we can accommodate all attendees. For any inquiries\, feel free to contact us at 519-925-6948 or email us at info@mccarthyrealty.ca \nSee you at the McCarthy Realty Dundalk Office Grand Opening! Let’s make this event a memorable one together.
URL:https://mccarthyrealty.ca/event/mccarthy-realty-dundalk-office-grand-opening/
LOCATION:McCarthy Realty Dundalk Office\, 40 Main St W\, Dundalk\, Ontario\, N0C 1B0\, Canada
CATEGORIES:McCarthy Realty Team Event
ATTACH;FMTTYPE=image/png:https://mccarthyrealty.ca/wp-content/uploads/2023/07/1.png
ORGANIZER;CN="McCarthy Realty Team":MAILTO:info@mccarthyrealty.ca
END:VEVENT
END:VCALENDAR